BEGIN:VCALENDAR
VERSION:2.0
PRODID:-//Acme Widgets\, Inc.//NONSGML ExportToCalendar//EN
CALSCALE:GREGORIAN
METHOD:PUBLISH
X-WR-CALNAME:Groupmuses near 
X-WR-NAME:Groupmuses near 
BEGIN:VEVENT
DTSTAMP:20260422T113803Z
UID:800d49c9-b8b8-47a9-bc87-d25927c5aaad
DTSTART:20260503T010000Z
DTEND:20260503T033000Z
DESCRIPTION:Hosted by Mary Rose O.\nMusicians: Heavy Meadow and Jake Chapma
 n\n\nJoe Hill was the greatest song-maker of the golden age of American la
 bor consciousness. The bosses feared him and the workers revered him. \n\n
 Executed by the state of Utah in 1915 for a crime he didn't commit\, Joe H
 ill never really died -- he just changed forms\, from flesh and blood to m
 ovement martyr and angel archetype. \n\nHeavy Meadow and Jake Chapman are 
 in a band called Brother Man and they're here to sing his song and tell hi
 s tale.\n\nFilmmaker Monty Montgomery is making a documentary about Heavy 
 and Chappy's journey up the West Coast and across the country to champion 
 Joe Hill's legacy at a moment when we need it bad! \n\nLearn about the pro
 ject at OneBigSong.com\n\n
LOCATION:Eagle Rock\, Los Angeles
SUMMARY:Joe Hill Lives! Brother Man in Eagle Rock
URL:https://www.groupmuse.com/events/16585-joe-hill-lives-brother-man-in-ea
 gle-rock
END:VEVENT
END:VCALENDAR
