BEGIN:VCALENDAR
VERSION:2.0
PRODID:-//Acme Widgets\, Inc.//NONSGML ExportToCalendar//EN
CALSCALE:GREGORIAN
METHOD:PUBLISH
X-WR-CALNAME:Groupmuses near 
X-WR-NAME:Groupmuses near 
BEGIN:VEVENT
DTSTAMP:20260420T021618Z
UID:0e5c1992-8fa0-4dff-8d36-08f4d0c04bc2
DTSTART:20260509T233000Z
DTEND:20260510T020000Z
DESCRIPTION:Hosted by A Far Cry\nMusicians: Karim Sulayman\n\nStep into a p
 owerful and deeply human musical reflection with **A Far Cry**’s season 
 finale\, *The Strangers’ Case*\, on **Saturday\, May 9 at 7:30 PM** at J
 ordan Hall. Curated by **violinist Jesse Irons** and featuring **GRAMMY® 
 Award-winning tenor Karim Sulayman**\, this evocative program explores the
 mes of migration\, identity\, and belonging—tracing the emotional landsc
 apes of those who cross borders in search of home. Through a blend of new 
 and timeless works\, the evening invites listeners into stories that feel 
 both intimate and universal.\n\nFrom the yearning hope of **Mary Kouyoumdj
 ian**’s *Tagh [Diary] of an Immigrant* to the timeless expressiveness of
  **Handel**’s tenor arias\, and the gentle solace of **Dvořák**’s *N
 octurne*\, each piece offers a different lens on longing and connection. A
 t the heart of the program is **Karim Al-Zand**’s *The Strangers’ Case
 *\, a gripping song cycle that draws on poetry and personal accounts to il
 luminate the immigrant experience with urgency and compassion. With Groupm
 use Nights Out discounted tickets\, this is a rare opportunity to experien
 ce a concert that resonates far beyond the stage—where music becomes a v
 essel for empathy\, storytelling\, and shared humanity. 🎶
LOCATION:NEC's Jordan Hall
SUMMARY:A Far Cry Presents: The Strangers' Case
URL:https://www.groupmuse.com/events/16561-a-far-cry-presents-the-strangers
 -case
END:VEVENT
END:VCALENDAR
