BEGIN:VCALENDAR
VERSION:2.0
PRODID:-//Acme Widgets\, Inc.//NONSGML ExportToCalendar//EN
CALSCALE:GREGORIAN
METHOD:PUBLISH
X-WR-CALNAME:Groupmuses near 
X-WR-NAME:Groupmuses near 
BEGIN:VEVENT
DTSTAMP:20260422T113803Z
UID:38f8c4ba-4cb6-4f7e-9676-96dd302f8108
DTSTART:20260515T233000Z
DTEND:20260516T020000Z
DESCRIPTION:Hosted by Gotham Early M.\nMusicians: \n\nTrace a rich and unex
 pected musical lineage with **Groupmuse Nights Out**\, offering discounted
  tickets to "From South to North: The Hispanic and Indigenous Influence on
  Early American Music" on **Friday\, May 15 at 7:30 PM at Saint Ignatius o
 f Antioch Episcopal Church**. Presented by **Gotham Early Music Scene**\, 
 this evocative program journeys across centuries and continents—from the
  great cathedrals and missions of Latin America to the early musical life 
 of California—revealing how sacred traditions took on new life through I
 ndigenous voices\, local rhythms\, and cultural exchange.\n\nPerformed by 
 the acclaimed early music ensemble **El Parnaso Hyspano**\, joined by sopr
 ano **Erinn Sensenig** and instrumentalists from **Ars Poetica**\, the eve
 ning brings to light rarely heard repertoire shaped by the Spanish Golden 
 Age and the vibrant musical cultures of Bolivia\, Peru\, and beyond. With 
 texts in Spanish and Indigenous languages such as Quechua and Nahuatl\, th
 is program offers a deeply textured listening experience—where history\,
  identity\, and artistry intertwine. With Groupmuse Nights Out discounted 
 tickets\, step into a sound world both ancient and newly rediscovered\, wh
 ere the voices of the past resonate with striking immediacy. 🎶
LOCATION:Saint Ignatius Church
SUMMARY:GEMS Presents: El Parnaso Hyspano
URL:https://www.groupmuse.com/events/16560-gems-presents-el-parnaso-hyspano
END:VEVENT
END:VCALENDAR
