BEGIN:VCALENDAR
VERSION:2.0
PRODID:-//Acme Widgets\, Inc.//NONSGML ExportToCalendar//EN
CALSCALE:GREGORIAN
METHOD:PUBLISH
X-WR-CALNAME:Groupmuses near 
X-WR-NAME:Groupmuses near 
BEGIN:VEVENT
DTSTAMP:20260422T113824Z
UID:1c4ac93a-2020-4b54-89d9-026a981f1824
DTSTART:20260515T233000Z
DTEND:20260516T020000Z
DESCRIPTION:Hosted by Pegasus - The Orchestra\nMusicians: \n\nDiscover a vi
 brant and rarely heard musical tradition with **Groupmuse Nights Out**\, o
 ffering discounted tickets to **Pegasus: The Orchestra’s season finale\,
  New Voices – A Journey of Armenian Music\, on Friday\, May 15 at 7:30 P
 M**. Led by founder and artistic director **Karén Hakobyan**\, this progr
 am is less a standard concert and more a sweeping story—tracing Armenian
  musical identity across generations through bold premieres\, rediscovered
  gems\, and electrifying orchestral color.\n\nThe evening unfolds from the
  intimacy of the human voice—featuring soprano **Tatev Baroyan** in work
 s by **Komitas Vardapet** and **Hakobyan**’s own *Vocalise*—to the dra
 matic scale of concerto showpieces\, including the New York premiere of **
 Arno Babadjanian**’s *Cello Concerto* with **Suren Bagratuni**. After in
 termission\, the spotlight shifts to violinist **Ruggero Allifranchini** i
 n another premiere\, before the concert erupts into the vivid\, rhythm-cha
 rged world of **Aram Khachaturian**’s dance music. With Groupmuse Nights
  Out discounted tickets\, this is your chance to experience something rare
  and transportive—where tradition\, innovation\, and sheer sonic excitem
 ent collide in a season finale that truly feels like an event. 🎶
LOCATION:Merkin Hall
SUMMARY:Pegasus Presents: New Voices | A Journey of Armenian Music
URL:https://www.groupmuse.com/events/16559-pegasus-presents-new-voices-a-jo
 urney-of-armenian-music
END:VEVENT
END:VCALENDAR
