BEGIN:VCALENDAR
VERSION:2.0
PRODID:-//Acme Widgets\, Inc.//NONSGML ExportToCalendar//EN
CALSCALE:GREGORIAN
METHOD:PUBLISH
X-WR-CALNAME:Groupmuses near 
X-WR-NAME:Groupmuses near 
BEGIN:VEVENT
DTSTAMP:20260422T155602Z
UID:d6a09bcb-76a0-49b4-8423-4dfd9070a876
DTSTART:20260528T233000Z
DTEND:20260529T020000Z
DESCRIPTION:Hosted by NY Philharmonic\nMusicians: Carter Brey\n\nStep into 
 a world of color\, storytelling\, and orchestral magic with **Groupmuse Ni
 ghts Out**\, offering discounted tickets to the **New York Philharmonic** 
 led by the dynamic **Elim Chan**. This captivating program blends the whim
 sical and the profound\, featuring selections from **Prokofiev**’s *Cind
 erella*—a lush\, imaginative score rarely heard in its orchestral form\,
  brimming with elegance\, mischief\, and cinematic flair. Adding a touch o
 f the ethereal is the New York premiere of **Noriko Koide**’s *Swaddling
  Silk and Gossamer Rain*\, a work of shimmering delicacy and intricate tex
 ture that invites listeners into a dreamlike sonic landscape.\n\nAt the he
 art of the evening\, Principal Cello **Carter Brey** takes the spotlight i
 n **Saint-Saëns**’s *Cello Concerto No. 1*\, a piece of sweeping drama 
 and virtuosic brilliance that showcases the instrument’s full expressive
  range. With Groupmuse Nights Out discounted tickets\, this is your chance
  to experience an evening where fantasy\, innovation\, and masterful perfo
 rmance converge—brought vividly to life by one of today’s most excitin
 g conductors. 🎶✨
LOCATION:David Geffen Hall
SUMMARY:NY Phil Presents: Elim Chan Conducts Prokofiev
URL:https://www.groupmuse.com/events/16557-ny-phil-presents-elim-chan-condu
 cts-prokofiev
END:VEVENT
END:VCALENDAR
