BEGIN:VCALENDAR
VERSION:2.0
PRODID:-//Acme Widgets\, Inc.//NONSGML ExportToCalendar//EN
CALSCALE:GREGORIAN
METHOD:PUBLISH
X-WR-CALNAME:Groupmuses near 
X-WR-NAME:Groupmuses near 
BEGIN:VEVENT
DTSTAMP:20260422T100229Z
UID:9aa4db26-7e62-41f1-957d-6eefe58c63e2
DTSTART:20260602T230000Z
DTEND:20260603T013000Z
DESCRIPTION:Hosted by Jared P.\nMusicians: Andreas Arnold\n\nI'm so excited
  to welcome guitarist Andreas Arnold and flamenco singer Alfonso Cid for a
  unique night of Spanish music making.\n\nDoors open at 7pm\, music starts
  at 7:30
LOCATION:Columbus Circle
SUMMARY:Raw Flamenco with Andreas Arnold and Alfonso Cid
URL:https://www.groupmuse.com/events/16547-raw-flamenco-with-andreas-arnold
 -and-alfonso-cid
END:VEVENT
END:VCALENDAR
