BEGIN:VCALENDAR
VERSION:2.0
PRODID:-//Acme Widgets\, Inc.//NONSGML ExportToCalendar//EN
CALSCALE:GREGORIAN
METHOD:PUBLISH
X-WR-CALNAME:Groupmuses near 
X-WR-NAME:Groupmuses near 
BEGIN:VEVENT
DTSTAMP:20260422T095143Z
UID:d5bca4aa-86a5-4031-b93c-61d10a758fc9
DTSTART:20260516T180000Z
DTEND:20260516T203000Z
DESCRIPTION:Hosted by Jared P.\nMusicians: Yuyu Ikeda\n\nI'm thrilled to we
 lcome back violinist Yuyu Ikeda and newly welcome pianist Seiji Nakanishi 
 for a fantastic Saturday afternoon program.\n\nDoors at 2pm\, music at 2:3
 0pm\n\nMusic:\nSchumann Violin Sonata in A minor\nBeethoven Violin Sonata 
 No. 4\nWieniawski Polonaise Brilliante No.1\nA few short works from Kreisl
 er and others
LOCATION:Columbus Circle
SUMMARY:Yuyu Ikeda and Seiji Nakanishi
URL:https://www.groupmuse.com/events/16546-yuyu-ikeda-and-seiji-nakanishi
END:VEVENT
END:VCALENDAR
