BEGIN:VCALENDAR
VERSION:2.0
PRODID:-//Acme Widgets\, Inc.//NONSGML ExportToCalendar//EN
CALSCALE:GREGORIAN
METHOD:PUBLISH
X-WR-CALNAME:Groupmuses near 
X-WR-NAME:Groupmuses near 
BEGIN:VEVENT
DTSTAMP:20260420T104347Z
UID:f3dd6167-407c-4721-b9f1-8d3c74c816e1
DTSTART:20260621T190000Z
DTEND:20260621T213000Z
DESCRIPTION:Hosted by Karen C.\nMusicians: Aimee Toner and Weiwei Zhai\n\nJ
 oin us for a summer celebration with Sunday Brunch and Beautiful Music for
  Flute and Piano presented by artists Aimee Toner and Weiwei Zhai (and enj
 oy the backyard garden too\, weather permitting)!
LOCATION:UWS Manhattan Hamilton Heights
SUMMARY:Summer Celebration with Sunday Brunch and Beautiful Music
URL:https://www.groupmuse.com/events/16527-summer-celebration-with-sunday-b
 runch-and-beautiful-music
END:VEVENT
END:VCALENDAR
