BEGIN:VCALENDAR
VERSION:2.0
PRODID:-//Acme Widgets\, Inc.//NONSGML ExportToCalendar//EN
CALSCALE:GREGORIAN
METHOD:PUBLISH
X-WR-CALNAME:Groupmuses near 
X-WR-NAME:Groupmuses near 
BEGIN:VEVENT
DTSTAMP:20260422T212440Z
UID:3f6dad9c-d52e-49b1-87d0-3ac1f8941021
DTSTART:20260426T193000Z
DTEND:20260426T220000Z
DESCRIPTION:Hosted by Nell F.\nMusicians: Philip Lima\n\nWe are so happy to
  be hosting Highland Park's own Phil Lima (baritone) and his wonderful pia
 nist Tudor Bota.   We first met Phil when he was the soloist for the Bosto
 n Pops Christmas Tour a few years ago.  Neighbors have been asking Phil to
  create a concert for us here in Highland Park\, and this is the opportuni
 ty!  We have an amazing piano\, and Phil has a deep beautiful voice that y
 ou will love.  Please join us for a varied program of songs.  
LOCATION:Highland Park\, Boston
SUMMARY:Sunday Songs
URL:https://www.groupmuse.com/events/16500-sunday-songs
END:VEVENT
END:VCALENDAR
