BEGIN:VCALENDAR
VERSION:2.0
PRODID:-//Acme Widgets\, Inc.//NONSGML ExportToCalendar//EN
CALSCALE:GREGORIAN
METHOD:PUBLISH
X-WR-CALNAME:Groupmuses near 
X-WR-NAME:Groupmuses near 
BEGIN:VEVENT
DTSTAMP:20260422T082529Z
UID:5b4c410f-4733-4ff2-8c3b-ac1bc83a914f
DTSTART:20260523T230000Z
DTEND:20260524T013000Z
DESCRIPTION:Hosted by Isabel K.\nMusicians: \n\n
LOCATION:Midtown South
SUMMARY:Owen Dodds Piano Recital
URL:https://www.groupmuse.com/events/16496-owen-dodds-piano-recital
END:VEVENT
END:VCALENDAR
