BEGIN:VCALENDAR
VERSION:2.0
PRODID:-//Acme Widgets\, Inc.//NONSGML ExportToCalendar//EN
CALSCALE:GREGORIAN
METHOD:PUBLISH
X-WR-CALNAME:Groupmuses near 
X-WR-NAME:Groupmuses near 
BEGIN:VEVENT
DTSTAMP:20260422T173442Z
UID:450d7b08-addb-46bf-8c17-621d6a4d13b8
DTSTART:20260328T030000Z
DTEND:20260328T053000Z
DESCRIPTION:Hosted by The Oakland S.\nMusicians: Brian Raphael Nabors and J
 erome Lenk\n\nUnder the direction of **Kedrick Armstrong**\, this electrif
 ying program puts the organ front and center — from groove-driven brilli
 ance to symphonic thunder. The evening opens with **Clarice Assad**’s *B
 aião N’ Blues*\, a rhythmically charged fusion of Brazilian flair and b
 luesy color.\n\nThen composer-organist **Brian Raphael Nabors** takes the 
 spotlight in his own *Hammond Organ Concerto*\, a genre-bending showpiece 
 that brings the iconic Hammond sound into the orchestral spotlight. Nabors
  is joined by organist **Jerome Lenk** for a program that celebrates the i
 nstrument’s full expressive range — from soulful warmth to stadium-siz
 ed power.\n\nThe night culminates in **Camille Saint-Saëns**’s *Symphon
 y No. 3*\, “Organ” — the legendary “Organ Symphony.” Majestic\, 
 dramatic\, and gloriously over-the-top in the best way\, it builds to one 
 of the most thrilling finales in all of symphonic music.\n\n🎶 Come earl
 y for a **pre-concert talk at 7:05 pm with John Kendall Bailey**.\n\n✨ W
 ith **Groupmuse Nights Out**\, you’re not just getting discounted ticket
 s — you’re plugging into a community that shows up for bold programmin
 g and epic live sound. It’s the perfect excuse to gather your music-lovi
 ng crew and experience a night that will quite literally shake the walls.
LOCATION:The Paramount Theater
SUMMARY:The Oakland Symphony Presents: Hammond | Saint-Saëns & the Organ
URL:https://www.groupmuse.com/events/16371-the-oakland-symphony-presents-ha
 mmond-saint-saens-the-organ
END:VEVENT
END:VCALENDAR
