BEGIN:VCALENDAR
VERSION:2.0
PRODID:-//Acme Widgets\, Inc.//NONSGML ExportToCalendar//EN
CALSCALE:GREGORIAN
METHOD:PUBLISH
X-WR-CALNAME:Groupmuses near 
X-WR-NAME:Groupmuses near 
BEGIN:VEVENT
DTSTAMP:20260422T173445Z
UID:c215ccc7-423c-4ab5-9ebd-e5392b26e80a
DTSTART:20260410T233000Z
DTEND:20260411T020000Z
DESCRIPTION:Hosted by NY Philharmonic\nMusicians: Golda Schultz and Yarn/Wi
 re\n\nThe **New York Philharmonic**\, led by **Kwamé Ryan**\, presents an
  evening of searching modernism and luminous American lyricism featuring *
 *soprano Golda Schultz** and the dynamic ensemble **Yarn/Wire**.\n\nThe pr
 ogram begins with the quiet mystery of **Charles Ives**’s *The Unanswere
 d Question* and continues with the New York premiere of **George Lewis**
 ’s *…ohne festen Wohnsitz*\, a bold new concerto featuring Yarn/Wire. 
 Schultz then brings radiant depth to operatic arias by **Carlisle Floyd an
 d Igor Stravinsky**\, before taking center stage in **Samuel Barber**’s 
 *Knoxville: Summer of 1915* — a tender evocation of childhood memory. Ba
 rber’s gripping *Second Essay for Orchestra* closes the evening with swe
 eping intensity.\n\n✨ Thanks to Groupmuse Nights Out\, discounted ticket
 s are available for this performance — making it easier to experience th
 is exquisite blend of song and symphonic color live. Don’t miss your cha
 nce to hear one of today’s most expressive sopranos in a program that sp
 ans intimacy\, joy\, and orchestral brilliance! 🎶
LOCATION:David Geffen Hall
SUMMARY:NY Phil Presents: Golda Schultz Sings Barber & Stravinsky
URL:https://www.groupmuse.com/events/16369-ny-phil-presents-golda-schultz-s
 ings-barber-stravinsky
END:VEVENT
END:VCALENDAR
