BEGIN:VCALENDAR
VERSION:2.0
PRODID:-//Acme Widgets\, Inc.//NONSGML ExportToCalendar//EN
CALSCALE:GREGORIAN
METHOD:PUBLISH
X-WR-CALNAME:Groupmuses near 
X-WR-NAME:Groupmuses near 
BEGIN:VEVENT
DTSTAMP:20260422T212431Z
UID:54cb6f48-2d01-45b4-9442-e3b0f20a722f
DTSTART:20260517T233000Z
DTEND:20260518T020000Z
DESCRIPTION:Hosted by David Z.\nMusicians: Hannah White\n\nTBD
LOCATION:Tarzana\, Los Angeles
SUMMARY:Hannah White back in Tarzana!
URL:https://www.groupmuse.com/events/16365-hannah-white-back-in-tarzana
END:VEVENT
END:VCALENDAR
