BEGIN:VCALENDAR
VERSION:2.0
PRODID:-//Acme Widgets\, Inc.//NONSGML ExportToCalendar//EN
CALSCALE:GREGORIAN
METHOD:PUBLISH
X-WR-CALNAME:Groupmuses near 
X-WR-NAME:Groupmuses near 
BEGIN:VEVENT
DTSTAMP:20260422T173446Z
UID:36a40208-1a3c-4113-94d6-856896e54258
DTSTART:20260331T230000Z
DTEND:20260401T013000Z
DESCRIPTION:Hosted by Young Concert Artists\nMusicians: Kiron Atom Tellian\
 n\nJoin the Washington\, D.C. debut of **Kiron Atom Tellian** on **March 3
 1 (7:00 PM) at the Kennedy Center Terrace Theater**\, for a recital that r
 edefines the boundaries of the piano and reveals a hidden world inside of 
 the Étude. Melding together **Chopin**’s lyricism\, **Scriabin**’s my
 sticism\, and **Schumann**’s symphonic grandeur\, Tellian crafts a deepl
 y personal journey through his expressive and dazzling technique.\n\n
 🎟️ Thanks to Groupmuse’s Nights Out program\, discounted tickets ar
 e available for this landmark debut. Reserve your seat now!
LOCATION:Kennedy Center Terrace Theater
SUMMARY:YCA Presents: Kiron Atom Tellian\, piano 
URL:https://www.groupmuse.com/events/16343-yca-presents-kiron-atom-tellian-
 piano
END:VEVENT
END:VCALENDAR
