BEGIN:VCALENDAR
VERSION:2.0
PRODID:-//Acme Widgets\, Inc.//NONSGML ExportToCalendar//EN
CALSCALE:GREGORIAN
METHOD:PUBLISH
X-WR-CALNAME:Groupmuses near 
X-WR-NAME:Groupmuses near 
BEGIN:VEVENT
DTSTAMP:20260422T173445Z
UID:981857a2-6d27-44d6-bf64-a89d5881bf69
DTSTART:20260329T190000Z
DTEND:20260329T213000Z
DESCRIPTION:Hosted by Repast Baroque\nMusicians: \n\nProfiling two English 
 folk heroes\, King Arthur and Robin Hood\, **Repast** is joined by  the ch
 ivalrous **bass-baritone Paul Max Tipton** as well as **theorbist Adam Coc
 kerham and baroque violinist Shelby Yamin**. Legendary King Arthur and his
  circle of gallant knights  hold court with **Purcell**’s *King Arthur* 
 (1691) and **Dibdin**’s *The institution of the Garter*\, or *Arthur's R
 ound Table restored* (1745). Robin Hood comes through as the people’s  c
 hampion through rebellious broadside ballads and **Shield**’s comic oper
 a *Robin Hood* (1784). \n\n*There will be a free reception after the conce
 rt.*
LOCATION:Temple Emmanu-El
SUMMARY:Repast Baroque Presents: Classics | King Arthur and Robin Hood
URL:https://www.groupmuse.com/events/16342-repast-baroque-presents-classics
 -king-arthur-and-robin-hood
END:VEVENT
END:VCALENDAR
