BEGIN:VCALENDAR
VERSION:2.0
PRODID:-//Acme Widgets\, Inc.//NONSGML ExportToCalendar//EN
CALSCALE:GREGORIAN
METHOD:PUBLISH
X-WR-CALNAME:Groupmuses near 
X-WR-NAME:Groupmuses near 
BEGIN:VEVENT
DTSTAMP:20260422T173444Z
UID:232dee0d-56b3-45ec-a681-5d3e528c5187
DTSTART:20260323T030000Z
DTEND:20260323T053000Z
DESCRIPTION:Hosted by Camerata P.\nMusicians: Gilles Vonsattel\n\nExperienc
 e the raw fire and revolutionary brilliance of **Ludwig van Beethoven** in
  a sweeping solo recital performed by internationally acclaimed **pianist 
 Gilles Vonsattel** — all at an exclusive Groupmuse Nights Out discount.\
 n\nBeethoven didn’t just write piano music — he reinvented what the pi
 ano could say. Across these four sonatas\, you’ll hear him push the inst
 rument to its emotional and technical limits:\n\n*Sonata in C Minor\, Op. 
 13*\, “Pathétique” – Stormy drama\, aching lyricism\, and one of th
 e most beloved slow movements ever written.\n\n*Sonata in E-flat Major\, O
 p. 27\, No. 1*\, “Sonata quasi una fantasia” – Experimental and drea
 mlike\, breaking traditional sonata form long before it was fashionable.\n
 \n*Sonata in A-flat Major\, Op. 26* – A rare funeral march anchors this 
 deeply expressive and inventive work.\n\n*Sonata in F Minor\, Op. 57*\, 
 “Appassionata” – Pure volcanic intensity. This is Beethoven at his m
 ost fierce\, defiant\, and electrifying.\n\nFrom intimate whispers to thun
 derous cascades of sound\, this program traces Beethoven’s transformatio
 n from Classical heir to Romantic revolutionary. And if you’ve never hea
 rd the Appassionata live\, this is your moment. And if you have? You alrea
 dy know why you need to come. \n\nOur Nights Out program gives you access 
 to world-class performances at a special community rate — no fluff\, jus
 t phenomenal music shared with fellow listeners who truly care. Seats are 
 limited — join us for a night of passion\, power\, and piano transcenden
 ce.
LOCATION:Zipper Hall
SUMMARY:Camerata Pacifica Presents: Gilles Vonsattel Plays All Beethoven 
URL:https://www.groupmuse.com/events/16341-camerata-pacifica-presents-gille
 s-vonsattel-plays-all-beethoven
END:VEVENT
END:VCALENDAR
