BEGIN:VCALENDAR
VERSION:2.0
PRODID:-//Acme Widgets\, Inc.//NONSGML ExportToCalendar//EN
CALSCALE:GREGORIAN
METHOD:PUBLISH
X-WR-CALNAME:Groupmuses near 
X-WR-NAME:Groupmuses near 
BEGIN:VEVENT
DTSTAMP:20260422T173444Z
UID:e4bf007e-2ed1-4535-a84d-84bece58e6f5
DTSTART:20260329T023000Z
DTEND:20260329T050000Z
DESCRIPTION:Hosted by Chamber Music S.\nMusicians: Myriad Trio\n\n**The Myr
 iad Trio** brings together **flutist Demarre McGill\, violist Che-Yen Chen
 \, and harpist Julie Smith Phillips** in a group dedicated to exploring th
 e rich sonic possibilities of the flute\, viola\, and harp. Inspired by th
 e colors and textures made famous in **Debussy**’s *Sonate en Trio*\, th
 e ensemble unites three celebrated artists who share a commitment to dynam
 ic collaboration and expressive depth.  We are thrilled to offer discounte
 d tickets (over 50% off!) to this fabulous concert\, made possible through
  our Nights Out program. Get yours today before they fly!\n\n*Children ove
 r age 7 are welcomed.*
LOCATION:Presidio Theatre
SUMMARY:Chamber Music San Francisco Presents: Myriad Trio
URL:https://www.groupmuse.com/events/16340-chamber-music-san-francisco-pres
 ents-myriad-trio
END:VEVENT
END:VCALENDAR
